BEGIN:VCALENDAR
PRODID:-//kirchenweb.ch gmbh//veranstaltungsausgabe v2.0//DE
VERSION:2.0
METHOD:PUBLISH
BEGIN:VEVENT
DTSTART:20260518T161500Z
DTEND:20260518T174500Z
LOCATION:\, \,
TRANSP:OPAQUE
SEQUENCE:0
UID:83667-veranstaltung@kirchenregion-aarberg.ch
DTSTAMP:20250514T075750Z
DESCRIPTION:Kursbeschreibung\nEs gibt nicht viele Frauen in der Bibel.
  Aber wenn eine Frau vorkommt\, dann ist sie meist eine starke und
  wichtige Person\, die etwas verändert. Und das\, obwohl sie oft keine
  einfachen Grundvoraussetzungen hat. Von diesen starken Frauen wollen wir
  lernen und herausfinden\, was uns selbst zu starken Frauen macht. Und
  natürlich gehört zu einer guten Ladung «Girl Power» auch Spass dazu.
  Am Samstagnachmittag ist ein Selbstverteidigungskurs geplant. Dieser Kurs
  ist nur für Mädchen der 7. und 8. Klasse.\n\nKurs à 2x2 Lektionen und
  1xGanzer Tag (inkl. Abend). Der Kurs gilt als zwei Wahlkurse. Wenn du
  dich für diesen Kurs einschreibst\, brauchst du dich für keine weiteren
  Wahlkurse anzumelden.\n\nLeitung\nPfarrerin Lea Dürig\n\nKontakt
 \nPfarrerin Lea Dürig\nKirchweg 4\, 3271 Radelfingen\n076 535 60 25\,
  lea.duerig@kirche-radelfingen.ch\n\nKursdaten Schuljahr 2025/2026
 \nMontag\, 18.5.2026\, 18.15-19.45\nDienstag\, 26.5.2026\, 18.15-19.45
 \nSamstag\, 30.5.2026\, 8.20-21.30 (mit Mittag- und Abendessen)\n\nKursort
 \nKirchgemeindesaal\, Pfrundscheune Radelfingen\, Kirchweg 4a\, 3271
  Radelfingen\n\nKurskosten\nCHF 20.00 pro Person. Die Kurskosten decken
  die Unkosten der Mahlzeiten und den Selbstverteidigungskurs. Bitte bring
  den Beitrag am ersten Kurstag mit.\n\nMitnehmen\nBring deine Bibel mit.\n
 \nSpezielles\nTeile bei der Anmeldung mit\, falls du Allergien oder eine
  spezielle Diät hast.\n\n\n\n\n\nKontakt: info.k@kirchekallnach.ch\n
 \nWeitere Infos: https://www.kirchenregion-aarberg.ch/veranstaltung/83667
SUMMARY:Wahlkurs: Girl Power! 2026
PRIORITY:5
X-MICROSOFT-CDO-IMPORTANCE:1
CLASS:PUBLIC
END:VEVENT
END:VCALENDAR
