BEGIN:VCALENDAR
PRODID:-//kirchenweb.ch gmbh//veranstaltungsausgabe v2.0//DE
VERSION:2.0
METHOD:PUBLISH
BEGIN:VEVENT
DTSTART:20260312T141500Z
DTEND:20260312T160000Z
LOCATION:Spycher Walperswil\, Kirchweg 7\, 3272 Walperswil
TRANSP:OPAQUE
SEQUENCE:0
UID:84232-veranstaltung@kirchenregion-aarberg.ch
DTSTAMP:20250618T115643Z
DESCRIPTION:KUW Unterricht mit Karin Wälchli\, Katechetin\, mit
  gemeinsamem z'Vieri\n\nKontakt: Karin Wälchli\n\nWeitere Infos:
  https://www.kirchenregion-aarberg.ch/veranstaltung/84232
SUMMARY:KUW 3. Klasse Walperswil-Bühl
PRIORITY:5
X-MICROSOFT-CDO-IMPORTANCE:1
CLASS:PUBLIC
END:VEVENT
END:VCALENDAR
