BEGIN:VCALENDAR
PRODID:-//kirchenweb.ch gmbh//veranstaltungsausgabe v2.0//DE
VERSION:2.0
METHOD:PUBLISH
BEGIN:VEVENT
DTSTART:20260608T131500Z
DTEND:20260608T150000Z
LOCATION:Spycher bei der Kirche\, Kirchweg 7\, 3272 Walperswil
TRANSP:OPAQUE
SEQUENCE:0
UID:84257-veranstaltung@kirchenregion-aarberg.ch
DTSTAMP:20250618T122850Z
DESCRIPTION:KUW Unterricht mit Karin Wälchli\, mit gemeinsamem z'Vieri\n
 \nKontakt: Karin Wälchli\, Katechetin\n\nWeitere Infos:
  https://www.kirchenregion-aarberg.ch/veranstaltung/84257
SUMMARY:KUW 6. Klasse Walperswil-Bühl
PRIORITY:5
X-MICROSOFT-CDO-IMPORTANCE:1
CLASS:PUBLIC
END:VEVENT
END:VCALENDAR
