BEGIN:VCALENDAR
PRODID:-//kirchenweb.ch gmbh//veranstaltungsausgabe v2.0//DE
VERSION:2.0
METHOD:PUBLISH
BEGIN:VEVENT
DTSTART:20260528T153000Z
DTEND:20260528T170000Z
LOCATION:Spycher bei der Kirche\, Kirchweg 7\, 3272 Walperswil
TRANSP:OPAQUE
SEQUENCE:0
UID:84266-veranstaltung@kirchenregion-aarberg.ch
DTSTAMP:20250618T123505Z
DESCRIPTION:KUW Unterricht mit Dominik von Allmen\, Pfarrer\n\nKontakt:
  Dominik von Allmen\, Pfarrer\n\nWeitere Infos:
  https://www.kirchenregion-aarberg.ch/veranstaltung/84266
SUMMARY:KUW 8. Klasse Walperswil-Bühl
PRIORITY:5
X-MICROSOFT-CDO-IMPORTANCE:1
CLASS:PUBLIC
END:VEVENT
END:VCALENDAR
