BEGIN:VCALENDAR
PRODID:-//kirchenweb.ch gmbh//veranstaltungsausgabe v2.0//DE
VERSION:2.0
METHOD:PUBLISH
BEGIN:VEVENT
DTSTART:20260627T070000Z
DTEND:20260627T093000Z
LOCATION:Kirche Kallnach\, Kirchweg 7\, 3283 Kallnach
TRANSP:OPAQUE
SEQUENCE:0
UID:84438-veranstaltung@kirchenregion-aarberg.ch
DTSTAMP:20250620T143009Z
DESCRIPTION:Wir bereiten den Gottesdienst vom Sonntag\, 28. Juni 2026 vor.
 \n\nKontakt:\nCorinne Lirgg\, Katechetin\ncorinne.lirgg@kirchekallnach.ch
 \n079 386 95 71\n\nFränzi Mori\, Kirchgemeinderätin
 \nfranziska.mori@kirchekallnach.ch\n079 796 44 11\n\n\n\n\n\n\n\n\n
 \nKontakt: info.k@kirchekallnach.ch\n\nWeitere Infos:
  https://www.kirchenregion-aarberg.ch/veranstaltung/84438
SUMMARY:KUW 2 - Gottesdienstvorbereitung
PRIORITY:5
X-MICROSOFT-CDO-IMPORTANCE:1
CLASS:PUBLIC
END:VEVENT
END:VCALENDAR
