BEGIN:VCALENDAR
PRODID:-//kirchenweb.ch gmbh//veranstaltungsausgabe v2.0//DE
VERSION:2.0
METHOD:PUBLISH
BEGIN:VEVENT
DTSTART:20260628T080000Z
DTEND:20260628T090000Z
LOCATION:Kirche\, Kirchweg 7\, 3283 Kallnach
TRANSP:OPAQUE
SEQUENCE:0
UID:84447-veranstaltung@kirchenregion-aarberg.ch
DTSTAMP:20250620T143334Z
DESCRIPTION:Die KUW 2-6 gestaltet den Gottesdienst. Der zeitliche Ablauf
  wird noch bekannt gegeben.\n\nKontakt:\nCorinne Lirgg\, Katechetin
 \ncorinne.lirgg@kirchekallnach.ch\n079 386 95 71\n\nFränzi Mori\,
  Kirchgemeinderätin\nfranziska.mori@kirchekallnach.ch\n079 796 44 11\n\n
 \n\n\n\n\n\n\n\nKontakt: info.k@kirchekallnach.ch\n\nWeitere Infos:
  https://www.kirchenregion-aarberg.ch/veranstaltung/84447
SUMMARY:KUW 6 - Gottesdienstgestaltung
PRIORITY:5
X-MICROSOFT-CDO-IMPORTANCE:1
CLASS:PUBLIC
END:VEVENT
END:VCALENDAR
