BEGIN:VCALENDAR
PRODID:-//kirchenweb.ch gmbh//veranstaltungsausgabe v2.0//DE
VERSION:2.0
METHOD:PUBLISH
BEGIN:VEVENT
DTSTART:20260520T113000Z
DTEND:20260520T130000Z
LOCATION:Schürstube\, Kirchgemeindesaal\, Kirchweg 5b\, 3283 Kallnach
TRANSP:OPAQUE
SEQUENCE:0
UID:84450-veranstaltung@kirchenregion-aarberg.ch
DTSTAMP:20251020T070146Z
DESCRIPTION:KUW Unterricht der 3. KUW-Klasse Kallnach.\n\nKontakt:
 \nCorinne Lirgg\, Katechetin\ncorinne.lirgg@kirchekallnach.ch\n079 386 95
  71\n\n\n\n\n\n\nKontakt: info.k@kirchekallnach.ch\n\nWeitere Infos:
  https://www.kirchenregion-aarberg.ch/veranstaltung/84450
SUMMARY:KUW 3 Kallnach
PRIORITY:5
X-MICROSOFT-CDO-IMPORTANCE:1
CLASS:PUBLIC
END:VEVENT
END:VCALENDAR
