BEGIN:VCALENDAR
PRODID:-//kirchenweb.ch gmbh//veranstaltungsausgabe v2.0//DE
VERSION:2.0
METHOD:PUBLISH
BEGIN:VEVENT
DTSTART:20260612T173000Z
DTEND:20260612T183000Z
LOCATION:Kirche Kallnach\, Kirchweg 7\, 3283 Kallnach
TRANSP:OPAQUE
SEQUENCE:0
UID:84451-veranstaltung@kirchenregion-aarberg.ch
DTSTAMP:20250620T145350Z
DESCRIPTION:Übernachten in der Kirche\n\nFreitag\, 12.6.2026\, 19.30
  Uhr\, bis Samstag\, 13.6.2026\, 8.30 Uhr\, Treffpunkt Kirche\nAm
  späteren Abend kleiner Imbiss\, Z` Morgen in der Schürstube. Unbedingt
  Mätteli und warmen Schlafsack mitnehmen und alles \, was man sonst so
  braucht zum Übernachten (Pyjama\, Nessessaire\, etc)\n\nKontakt:
 \nCorinne Lirgg\, Katechetin\ncorinne.lirgg@kirchekallnach.ch\n079 386 95
  71\n\n\n\n\n\n\n\nKontakt: info.k@kirchekallnach.ch\n\nWeitere Infos:
  https://www.kirchenregion-aarberg.ch/veranstaltung/84451
SUMMARY:KUW 3 Kallnach - Übernachten in der Kirche
PRIORITY:5
X-MICROSOFT-CDO-IMPORTANCE:1
CLASS:PUBLIC
END:VEVENT
END:VCALENDAR
