BEGIN:VCALENDAR
PRODID:-//kirchenweb.ch gmbh//veranstaltungsausgabe v2.0//DE
VERSION:2.0
METHOD:PUBLISH
BEGIN:VEVENT
DTSTART;VALUE=DATE:20260505
DTEND;VALUE=DATE:20260506
LOCATION:Bern\, \,
TRANSP:OPAQUE
SEQUENCE:0
UID:84454-veranstaltung@kirchenregion-aarberg.ch
DTSTAMP:20250620T150810Z
DESCRIPTION:Tagesausflug ins Blindenmuseum.\n\nDer Termin ist mit der
  Schule abgesprochen. Die KUW-Schüler sind von der Schule freigestellt.
  Genaue Informationen folgen.\n\nKontakt:\nCorinne Lirgg\, Katechetin
 \ncorinne.lirgg@kirchekallnach.ch\n079 386 95 71\n\n\n\n\n\n\n\nKontakt:
  info.k@kirchekallnach.ch\n\nWeitere Infos:
  https://www.kirchenregion-aarberg.ch/veranstaltung/84454
SUMMARY:KUW 4 Kallnach
PRIORITY:5
X-MICROSOFT-CDO-IMPORTANCE:1
CLASS:PUBLIC
END:VEVENT
END:VCALENDAR
