BEGIN:VCALENDAR
PRODID:-//kirchenweb.ch gmbh//veranstaltungsausgabe v2.0//DE
VERSION:2.0
METHOD:PUBLISH
BEGIN:VEVENT
DTSTART:20260610T113000Z
DTEND:20260610T130000Z
LOCATION:Schürstube\, Kirchgemeindesaal\, Kirchweg 5b\, 3283 Kallnach
TRANSP:OPAQUE
SEQUENCE:0
UID:84455-veranstaltung@kirchenregion-aarberg.ch
DTSTAMP:20251020T070222Z
DESCRIPTION:KUW Unterricht der 4. KUW-Klasse Kallnach\n\nKontakt:\nCorinne
  Lirgg\, Katechetin\ncorinne.lirgg@kirchekallnach.ch\n079 386 95 71\n\n\n
 \n\n\n\n\nKontakt: info.k@kirchekallnach.ch\n\nWeitere Infos:
  https://www.kirchenregion-aarberg.ch/veranstaltung/84455
SUMMARY:KUW 4 Kallnach
PRIORITY:5
X-MICROSOFT-CDO-IMPORTANCE:1
CLASS:PUBLIC
END:VEVENT
END:VCALENDAR
