BEGIN:VCALENDAR
PRODID:-//kirchenweb.ch gmbh//veranstaltungsausgabe v2.0//DE
VERSION:2.0
METHOD:PUBLISH
BEGIN:VEVENT
DTSTART;VALUE=DATE:20260428
DTEND;VALUE=DATE:20260429
LOCATION:Bern\, \,
TRANSP:OPAQUE
SEQUENCE:0
UID:84460-veranstaltung@kirchenregion-aarberg.ch
DTSTAMP:20250626T083302Z
DESCRIPTION:Tagesausflug nach Bern.\n\nDer Termin ist mit der Schule
  abgesprochen. Die KUW-Schüler sind von der Schule freigestellt. Genauere
  Infos folgen.\n\nKontakt:\nCorinne Lirgg\, Katechetin
 \ncorinne.lirgg@kirchekallnach.ch\n079 386 95 71\n\n\n\n\n\n\n\n\nKontakt:
  info.k@kirchekallnach.ch\n\nWeitere Infos:
  https://www.kirchenregion-aarberg.ch/veranstaltung/84460
SUMMARY:KUW 6 Kallnach
PRIORITY:5
X-MICROSOFT-CDO-IMPORTANCE:1
CLASS:PUBLIC
END:VEVENT
END:VCALENDAR
