BEGIN:VCALENDAR
PRODID:-//kirchenweb.ch gmbh//veranstaltungsausgabe v2.0//DE
VERSION:2.0
METHOD:PUBLISH
BEGIN:VEVENT
DTSTART:20260521T153000Z
DTEND:20260521T170000Z
LOCATION:Kirchgemeindesaal Bargen\, Kirchrain 5a\, 3282 Bargen
TRANSP:OPAQUE
SEQUENCE:0
UID:84542-veranstaltung@kirchenregion-aarberg.ch
DTSTAMP:20250626T132305Z
DESCRIPTION:Gemeinsamer Abschluss des KUW-Jahres\n\nKontakt\nPhilippe
  Otti\, 079 687 92 46\, philippe.otti@mailbox.org\n\n\n\n\nKontakt:
  info.kg@kirche-bargen.ch\n\nWeitere Infos:
  https://www.kirchenregion-aarberg.ch/veranstaltung/84542
SUMMARY:KUW 7. und 8. Klasse Bargen
PRIORITY:5
X-MICROSOFT-CDO-IMPORTANCE:1
CLASS:PUBLIC
END:VEVENT
END:VCALENDAR
