BEGIN:VCALENDAR
PRODID:-//kirchenweb.ch gmbh//veranstaltungsausgabe v2.0//DE
VERSION:2.0
METHOD:PUBLISH
BEGIN:VEVENT
DTSTART:20260502T063000Z
DTEND:20260502T093000Z
LOCATION:Kirche Bargen\, Kirchrain 9\, 3282 Bargen
TRANSP:OPAQUE
SEQUENCE:0
UID:84550-veranstaltung@kirchenregion-aarberg.ch
DTSTAMP:20250626T135902Z
DESCRIPTION:Hauptprobe Konfirmation\n\nKontakt\nPhilippe Otti\,
  philippe.otti@mailbox.org\, 079 687 92 46\n\n\n\n\nKontakt:
  info.kg@kirche-bargen.ch\n\nWeitere Infos:
  https://www.kirchenregion-aarberg.ch/veranstaltung/84550
SUMMARY:KUW 9. Klasse Bargen\, Konfirmation Hauptprobe
PRIORITY:5
X-MICROSOFT-CDO-IMPORTANCE:1
CLASS:PUBLIC
END:VEVENT
END:VCALENDAR
