BEGIN:VCALENDAR
PRODID:-//kirchenweb.ch gmbh//veranstaltungsausgabe v2.0//DE
VERSION:2.0
METHOD:PUBLISH
BEGIN:VEVENT
DTSTART:20260506T154500Z
DTEND:20260506T173000Z
LOCATION:Schürstube\, Kirchgemeindesaal\, Kirchweg 5b\, 3283 Kallnach
TRANSP:OPAQUE
SEQUENCE:0
UID:84599-veranstaltung@kirchenregion-aarberg.ch
DTSTAMP:20250701T091941Z
DESCRIPTION:Schlussabend vom KUW-Jahr der 7. KUW-Klasse Kallnach\n
 \nKontakt:\nPfarrer Jürg Kägi\, Kirchrain 7\, 3282 Bargen\,
  juerg.kaegi@kirche32.ch\, 077 231 25 98\n\n\n\n\n\nKontakt:
  info.k@kirchekallnach.ch\n\nWeitere Infos:
  https://www.kirchenregion-aarberg.ch/veranstaltung/84599
SUMMARY:KUW 7 Kallnach
PRIORITY:5
X-MICROSOFT-CDO-IMPORTANCE:1
CLASS:PUBLIC
END:VEVENT
END:VCALENDAR
