BEGIN:VCALENDAR
PRODID:-//kirchenweb.ch gmbh//veranstaltungsausgabe v2.0//DE
VERSION:2.0
METHOD:PUBLISH
BEGIN:VEVENT
DTSTART:20260607T163000Z
DTEND:20260607T180000Z
LOCATION:Kirche Kallnach\, Kirchweg 7\, 3283 Kallnach
TRANSP:OPAQUE
SEQUENCE:0
UID:84623-veranstaltung@kirchenregion-aarberg.ch
DTSTAMP:20250701T141225Z
DESCRIPTION:Konfirmation Gruppe I. \n\nAlle Jugendlichen sind an beiden
  Konfirmationen anwesend.\n\nKontakt:\nPfarrer Jürg Kägi\, Kirchrain 7\,
  3282 Bargen\, juerg.kaegi@kirche32.ch\, 077 231 25 98\n\n\n\n\n\n
 \nKontakt: info.k@kirchekallnach.ch\n\nWeitere Infos:
  https://www.kirchenregion-aarberg.ch/veranstaltung/84623
SUMMARY:Konfirmation Gruppe I
PRIORITY:5
X-MICROSOFT-CDO-IMPORTANCE:1
CLASS:PUBLIC
END:VEVENT
END:VCALENDAR
