BEGIN:VCALENDAR
PRODID:-//kirchenweb.ch gmbh//veranstaltungsausgabe v2.0//DE
VERSION:2.0
METHOD:PUBLISH
BEGIN:VEVENT
DTSTART:20260312T104500Z
DTEND:20260312T114500Z
LOCATION:Restaurant Bahnhof\, Mühlegasse 39\, 3283 Kallnach
TRANSP:OPAQUE
SEQUENCE:0
UID:87318-veranstaltung@kirchenregion-aarberg.ch
DTSTAMP:20251104T102124Z
DESCRIPTION:Alle\, die gerne in Gesellschaft essen sind herzlich
  eingeladen. Preise: 14.00 Fr. halbe Portion\, 18.00 Fr. ganze Portion\n
 \nMenu\nTagessuppe\, Berner Platte\, Sauerkraut\, dürre Bohnen\, Pfälzer
  Rüebli\, geräuchertes Fleisch\n\nAnmeldung\nAnmeldung bis am
  Montagabend an Frauenverein Kallnach\, 079 386 88 10.\n\n\n\nKontakt:
  info.k@kirchekallnach.ch\n\nWeitere Infos:
  https://www.kirchenregion-aarberg.ch/veranstaltung/87318
SUMMARY:Mittagstisch Frauenverein Kallnach
PRIORITY:5
X-MICROSOFT-CDO-IMPORTANCE:1
CLASS:PUBLIC
END:VEVENT
END:VCALENDAR
