BEGIN:VCALENDAR
PRODID:-//kirchenweb.ch gmbh//veranstaltungsausgabe v2.0//DE
VERSION:2.0
METHOD:PUBLISH
BEGIN:VEVENT
DTSTART:20260611T094500Z
DTEND:20260611T104500Z
LOCATION:Restaurant Bahnhof\, Mühlegasse 39\, 3283 Kallnach
TRANSP:OPAQUE
SEQUENCE:0
UID:87321-veranstaltung@kirchenregion-aarberg.ch
DTSTAMP:20251104T102142Z
DESCRIPTION:Alle\, die gerne in Gesellschaft essen sind herzlich
  eingeladen. Preise: 14.00 Fr. halbe Portion\, 18.00 Fr. ganze Portion\n
 \nMenu\nSalat\, Rindszunge an Kapernsauce\, Reis\n\nAnmeldung\nAnmeldung
  bis am Montagabend an Frauenverein Kallnach\, 079 386 88 10.\n\n\n
 \nKontakt: info.k@kirchekallnach.ch\n\nWeitere Infos:
  https://www.kirchenregion-aarberg.ch/veranstaltung/87321
SUMMARY:Mittagstisch Frauenverein Kallnach
PRIORITY:5
X-MICROSOFT-CDO-IMPORTANCE:1
CLASS:PUBLIC
END:VEVENT
END:VCALENDAR
