BEGIN:VCALENDAR
PRODID:-//kirchenweb.ch gmbh//veranstaltungsausgabe v2.0//DE
VERSION:2.0
METHOD:PUBLISH
BEGIN:VEVENT
DTSTART:20260310T130000Z
DTEND:20260310T160000Z
LOCATION:Vereinslokal\, Mehrzweckhalle Bargen\, Neuenburgstrasse 37\, 3282
  Bargen
TRANSP:OPAQUE
SEQUENCE:0
UID:87493-veranstaltung@kirchenregion-aarberg.ch
DTSTAMP:20251112T162806Z
DESCRIPTION:Die Seniorenbühne Lyss Seeland präsentiert das Theater
  "Dänkbar ungünstig".\n\nDie Nachmittage werden vom Frauenverein mit
  Unterstützung der Kirchgemeinde\, der Einwohnergemeinde und der
  Burgergemeinde\, organisiert. Alle Seniorinnen und Senioren ab 65 Jahren
  sind herzlich willkommen.\n\n\n\n\n\n\nKontakt: info.kg@kirche-bargen.ch
 \n\nWeitere Infos:
  https://www.kirchenregion-aarberg.ch/veranstaltung/87493
SUMMARY:Seniorennachmittag Bargen
PRIORITY:5
X-MICROSOFT-CDO-IMPORTANCE:1
CLASS:PUBLIC
END:VEVENT
END:VCALENDAR
