BEGIN:VCALENDAR
PRODID:-//kirchenweb.ch gmbh//veranstaltungsausgabe v2.0//DE
VERSION:2.0
METHOD:PUBLISH
BEGIN:VEVENT
DTSTART:20260424T120000Z
DTEND:20260424T140000Z
LOCATION:Spycher Walperswil\, Kirchweg 7\, 3272 Walperswil
TRANSP:OPAQUE
SEQUENCE:0
UID:87524-veranstaltung@kirchenregion-aarberg.ch
DTSTAMP:20260409T061316Z
DESCRIPTION:Aufgrund einer Terminkollision findet das Spycherkaffee nicht
  statt.\nDas nächste Treffen findet am 29. Mai 2026 statt.\n\nKontakt:
  Beatrice Kaltenrieder und Marianne Roth\n\nWeitere Infos:
  https://www.kirchenregion-aarberg.ch/veranstaltung/87524
SUMMARY:ABGESAGT Spycherkaffee Walperswil-Bühl
PRIORITY:5
X-MICROSOFT-CDO-IMPORTANCE:1
CLASS:PUBLIC
END:VEVENT
END:VCALENDAR
