BEGIN:VCALENDAR
PRODID:-//kirchenweb.ch gmbh//veranstaltungsausgabe v2.0//DE
VERSION:2.0
METHOD:PUBLISH
BEGIN:VEVENT
DTSTART:20260529T120000Z
DTEND:20260529T140000Z
LOCATION:Spycher Walperswil\, Kirchweg 7\, 3272 Walperswil
TRANSP:OPAQUE
SEQUENCE:0
UID:87525-veranstaltung@kirchenregion-aarberg.ch
DTSTAMP:20251113T101623Z
DESCRIPTION:Kontakt: Beatrice Kaltenrieder und Marianne Roth\n\nWeitere
  Infos: https://www.kirchenregion-aarberg.ch/veranstaltung/87525
SUMMARY:Spycherkaffee Walperswil-Bühl
PRIORITY:5
X-MICROSOFT-CDO-IMPORTANCE:1
CLASS:PUBLIC
END:VEVENT
END:VCALENDAR
