BEGIN:VCALENDAR
PRODID:-//kirchenweb.ch gmbh//veranstaltungsausgabe v2.0//DE
VERSION:2.0
METHOD:PUBLISH
BEGIN:VEVENT
DTSTART:20260614T090000Z
DTEND:20260614T100000Z
LOCATION:Kirchgemeindesaal Bargen\, Kirchrain 5a\, 3282 Bargen
TRANSP:OPAQUE
SEQUENCE:0
UID:88048-veranstaltung@kirchenregion-aarberg.ch
DTSTAMP:20251203T201006Z
DESCRIPTION:Die Kirchgemeindeversammlung findet im Kirchgemeindesaal
  statt. Sie beginnt im Anschluss an den Gottesdienst um ca. 11.00 Uhr.\n
 \nAlle Mitglieder sind herzlich eingeladen die Kirchgemeinde an der
  Versammlung mitzugestalten.\n\n\n\n\nKontakt: info.kg@kirche-bargen.ch\n
 \nWeitere Infos: https://www.kirchenregion-aarberg.ch/veranstaltung/88048
SUMMARY:Kirchgemeindeversammlung Bargen
PRIORITY:5
X-MICROSOFT-CDO-IMPORTANCE:1
CLASS:PUBLIC
END:VEVENT
END:VCALENDAR
