BEGIN:VCALENDAR
PRODID:-//kirchenweb.ch gmbh//veranstaltungsausgabe v2.0//DE
VERSION:2.0
METHOD:PUBLISH
BEGIN:VEVENT
DTSTART:20260626T173000Z
DTEND:20260626T183000Z
LOCATION:Schürstube Kallnach\, Kirchgemeindesaal\, Kirchweg 5b\, 3283
  Kallnach
TRANSP:OPAQUE
SEQUENCE:0
UID:88052-veranstaltung@kirchenregion-aarberg.ch
DTSTAMP:20251203T202035Z
DESCRIPTION:Die Delegiertenversammlung trifft sich einmal jährlich\,
  genehmigt das Budget und die Jahresrechnung der KIRCHE32\, stimmt über
  Reglemente ab und wählt den Vorstand und den Präsidenten. Je nach
  Mitgliederzahl der Kirchgemeinden können mehr oder weniger Delegierte an
  die Delegiertenversammlung entsannt werden. \n\nDie Delegierten werden
  von den Kirchgemeinden entsannt. Wenn du Lust hast als Delegierte an der
  Versammlung teilzunehmen melde dich mindestens 30 Tage vorher bei einem
  Kirchgemeinderat deiner Gemeinde. Wir freuen uns über dein Interesse.\n
 \nKontakt\nFritz Mori\, Vorstandpräsident KIRCHE32\n076 587 38 11\,
  fritz.mori@kirchekallnach.ch\n\nKontakt: info.k@kirchekallnach.ch\n
 \nWeitere Infos: https://www.kirchenregion-aarberg.ch/veranstaltung/88052
SUMMARY:Delegiertenversammlung KIRCHE32
PRIORITY:5
X-MICROSOFT-CDO-IMPORTANCE:1
CLASS:PUBLIC
END:VEVENT
END:VCALENDAR
