BEGIN:VCALENDAR
PRODID:-//kirchenweb.ch gmbh//veranstaltungsausgabe v2.0//DE
VERSION:2.0
METHOD:PUBLISH
BEGIN:VEVENT
DTSTART:20260510T080000Z
DTEND:20260510T090000Z
LOCATION:Kirche Walperswil\, Kirchenweg 5\, 3272 Walperswil
TRANSP:OPAQUE
SEQUENCE:0
UID:88148-veranstaltung@kirchenregion-aarberg.ch
DTSTAMP:20260414T092004Z
DESCRIPTION:Pfarrer: Jürg Kägi\nOrganistin: Lilian von Rohr\nKollekte:
  Beratungsstelle Ehe-Familie Biel\n\n\n\n\nKontakt:
  info.k@kirchekallnach.ch\n\nWeitere Infos:
  https://www.kirchenregion-aarberg.ch/veranstaltung/88148
SUMMARY:Gottesdienst zum Muttertag
PRIORITY:5
X-MICROSOFT-CDO-IMPORTANCE:1
CLASS:PUBLIC
END:VEVENT
END:VCALENDAR
