BEGIN:VCALENDAR
PRODID:-//kirchenweb.ch gmbh//veranstaltungsausgabe v2.0//DE
VERSION:2.0
METHOD:PUBLISH
BEGIN:VEVENT
DTSTART:20260514T080000Z
DTEND:20260514T090000Z
LOCATION:Kirche Bargen\, Kirchrain 9\, 3282 Bargen
TRANSP:OPAQUE
SEQUENCE:0
UID:88149-veranstaltung@kirchenregion-aarberg.ch
DTSTAMP:20251204T142214Z
DESCRIPTION:Pfarrer: Philippe Otti\nOrganistin: Susanne Hügli\nKollekte:
  Nach Wahl der Konfirmanden\n\nWir gratulieren den Jugendlichen zur
  Konfirmation und wünschen Ihnen und Ihren Familien einen unvergesslichen
  Festtag. Für die Zukunft wünschen wir euch viele gute Erlebnisse und
  Gottes Segensspuren auf eurem Lebensweg.\n\n\n\n\n\n\nKontakt:
  info.k@kirchekallnach.ch\n\nWeitere Infos:
  https://www.kirchenregion-aarberg.ch/veranstaltung/88149
SUMMARY:Konfirmationsgottesdienst Bargen an Auffahrt
PRIORITY:5
X-MICROSOFT-CDO-IMPORTANCE:1
CLASS:PUBLIC
END:VEVENT
END:VCALENDAR
