BEGIN:VCALENDAR
PRODID:-//kirchenweb.ch gmbh//veranstaltungsausgabe v2.0//DE
VERSION:2.0
METHOD:PUBLISH
BEGIN:VEVENT
DTSTART:20260524T080000Z
DTEND:20260524T090000Z
LOCATION:Kirche Walperswil\, Kirchenweg 5\, 3272 Walperswil
TRANSP:OPAQUE
SEQUENCE:0
UID:88151-veranstaltung@kirchenregion-aarberg.ch
DTSTAMP:20260404T130647Z
DESCRIPTION:Pfarrer: Dominik von Allmen\nOrganistin: Lilian von Rohr
 \nKollekte: Synodale Pfingstkollekte\n\nWir gratulieren den Jugendlichen
  zur Konfirmation und wünschen Ihnen und Ihren Familien einen
  unvergesslichen Festtag. Für die Zukunft wünschen wir euch viele gute
  Erlebnisse und Gottes Segensspuren auf eurem Lebensweg.\n\n\n\n\n\n
 \nKontakt: info.k@kirchekallnach.ch\n\nWeitere Infos:
  https://www.kirchenregion-aarberg.ch/veranstaltung/88151
SUMMARY:Konfirmationsgottesdienst Walperswil
PRIORITY:5
X-MICROSOFT-CDO-IMPORTANCE:1
CLASS:PUBLIC
END:VEVENT
END:VCALENDAR
