BEGIN:VCALENDAR
PRODID:-//kirchenweb.ch gmbh//veranstaltungsausgabe v2.0//DE
VERSION:2.0
METHOD:PUBLISH
BEGIN:VEVENT
DTSTART:20260524T150000Z
DTEND:20260524T160000Z
LOCATION:Kirche Bargen\, Kirchrain 9\, 3282 Bargen
TRANSP:OPAQUE
SEQUENCE:0
UID:88153-veranstaltung@kirchenregion-aarberg.ch
DTSTAMP:20260404T130051Z
DESCRIPTION:Pfarrer: Jürg Kägi\nMusik: Käthi Werder\, Orgel\, Tabea
  Bürki\, Gesang\nKollekte: Familienpunkt Seeland\n\nFahrdienste für
  Gottesdienste:\nBargen\, 032 392 31 60\nWalperswil-Bühl\, 032 396 11 35
 \n\n\n\n\nKontakt: info.k@kirchekallnach.ch\n\nWeitere Infos:
  https://www.kirchenregion-aarberg.ch/veranstaltung/88153
SUMMARY:Abendandacht an Pfingsten mit Abendmahl
PRIORITY:5
X-MICROSOFT-CDO-IMPORTANCE:1
CLASS:PUBLIC
END:VEVENT
END:VCALENDAR
