BEGIN:VCALENDAR
PRODID:-//kirchenweb.ch gmbh//veranstaltungsausgabe v2.0//DE
VERSION:2.0
METHOD:PUBLISH
BEGIN:VEVENT
DTSTART:20260614T080000Z
DTEND:20260614T090000Z
LOCATION:Kirche Kallnach\, Kirchweg 7\, 3283 Kallnach
TRANSP:OPAQUE
SEQUENCE:0
UID:88496-veranstaltung@kirchenregion-aarberg.ch
DTSTAMP:20260323T125458Z
DESCRIPTION:Pfarrer: Jürg Kägi\nMusik: Urs Aeberhard\, Orgel\nKollekte:
  Nach Wahl der Konfirmanden\n\nWir gratulieren den Jugendlichen zur
  Konfirmation und wünschen Ihnen und Ihren Familien einen unvergesslichen
  Festtag. Für die Zukunft wünschen wir euch viele gute Erlebnisse und
  Gottes Segensspuren auf eurem Lebensweg. Das Pfarrteam und der
  Kirchgemeindrat\n\n\n\n\n\n\nKontakt: info.k@kirchekallnach.ch\n\nWeitere
  Infos: https://www.kirchenregion-aarberg.ch/veranstaltung/88496
SUMMARY:Konfirmationsgottesdienst Kallnach
PRIORITY:5
X-MICROSOFT-CDO-IMPORTANCE:1
CLASS:PUBLIC
END:VEVENT
END:VCALENDAR
