BEGIN:VCALENDAR
PRODID:-//kirchenweb.ch gmbh//veranstaltungsausgabe v2.0//DE
VERSION:2.0
METHOD:PUBLISH
BEGIN:VEVENT
DTSTART:20260614T080000Z
DTEND:20260614T090000Z
LOCATION:Kirche Bargen\, Kirchrain 9\, 3282 Bargen
TRANSP:OPAQUE
SEQUENCE:0
UID:88497-veranstaltung@kirchenregion-aarberg.ch
DTSTAMP:20260323T125145Z
DESCRIPTION:Pfarrer: Ueli Bukies\nOrganistin: Beatrice Geiser\nKollekte:
  Frauenverein Bargen\nAnschliessend Apéro\n\nKirchgemeindeversammlung:
  11.00 Uhr\, im Kirchgemeindesaal\n\nFahrdienste für Gottesdienste:
 \nBargen\, 032 392 31 60\nWalperswil-Bühl\, 032 396 11 35\n\n\n\n
 \nKontakt: info.k@kirchekallnach.ch\n\nWeitere Infos:
  https://www.kirchenregion-aarberg.ch/veranstaltung/88497
SUMMARY:Gottesdienst mit Abendmahl\, danach KGV
PRIORITY:5
X-MICROSOFT-CDO-IMPORTANCE:1
CLASS:PUBLIC
END:VEVENT
END:VCALENDAR
