BEGIN:VCALENDAR
PRODID:-//kirchenweb.ch gmbh//veranstaltungsausgabe v2.0//DE
VERSION:2.0
METHOD:PUBLISH
BEGIN:VEVENT
DTSTART:20260621T080000Z
DTEND:20260621T090000Z
LOCATION:Kirche Walperswil\, Kirchenweg 5\, 3272 Walperswil
TRANSP:OPAQUE
SEQUENCE:0
UID:88498-veranstaltung@kirchenregion-aarberg.ch
DTSTAMP:20251210T151943Z
DESCRIPTION:Pfarrer: Ueli Bukies\nMusik: Satomi Kikuchi\, Orgel\,
  Kirchenchor Kallnach\nKollekte: Kinderhilfe Sternschnuppe\n\nIm Anschluss
  an den Gottesdienst findet die Kirchgemeindeversammlung statt.\n
 \nFahrdienste für Gottesdienste:\nBargen\, 032 392 31 60
 \nWalperswil-Bühl\, 032 396 11 35\n\n\n\n\nKontakt:
  info.k@kirchekallnach.ch\n\nWeitere Infos:
  https://www.kirchenregion-aarberg.ch/veranstaltung/88498
SUMMARY:Gottesdienst\, danach Kirchgemeindeversammlung
PRIORITY:5
X-MICROSOFT-CDO-IMPORTANCE:1
CLASS:PUBLIC
END:VEVENT
END:VCALENDAR
