BEGIN:VCALENDAR
PRODID:-//kirchenweb.ch gmbh//veranstaltungsausgabe v2.0//DE
VERSION:2.0
METHOD:PUBLISH
BEGIN:VEVENT
DTSTART:20260522T070000Z
DTEND:20260522T080000Z
LOCATION:Kirche\, Kirchrain 9\, 3282 Bargen
TRANSP:OPAQUE
SEQUENCE:0
UID:88648-veranstaltung@kirchenregion-aarberg.ch
DTSTAMP:20251215T125333Z
DESCRIPTION:Gemeinsam beten wir für die dringenden Anliegen dieser Welt.
 \n\nKontakt: Kristin Anker\, Bargen\, 032 392 17 33\n\n\n\n\nKontakt:
  info.kg@kirche-bargen.ch\n\nWeitere Infos:
  https://www.kirchenregion-aarberg.ch/veranstaltung/88648
SUMMARY:ACAT-Gebet
PRIORITY:5
X-MICROSOFT-CDO-IMPORTANCE:1
CLASS:PUBLIC
END:VEVENT
END:VCALENDAR
