BEGIN:VCALENDAR
PRODID:-//kirchenweb.ch gmbh//veranstaltungsausgabe v2.0//DE
VERSION:2.0
METHOD:PUBLISH
BEGIN:VEVENT
DTSTART:20260310T130000Z
DTEND:20260310T140000Z
LOCATION:Mehrzweckhalle Bargen\, Vereinslokal im Obergeschoss\,
  Neuenburgstrasse 37\, 3282 Bargen
TRANSP:OPAQUE
SEQUENCE:0
UID:89081-veranstaltung@kirchenregion-aarberg.ch
DTSTAMP:20260303T065736Z
DESCRIPTION:Wir sind zu Gast in der Kirchgemeinde Bargen: Die
  Seniorenbühne Seeland spielt das Stück "Dänkbar ungünschtig". Eine
  Komödie in zwei Akten von Andres Kessner\n\nKontakt\nKirchgemeinderätin
  Monika Ebner-Schwab\, Mühlegasse 2\, 3283 Kallnach\,
  monika.ebner@kirchekallnach.ch\, 079 420 51 10\n\n\n\n\n\n\nKontakt:
  info.k@kirchekallnach.ch\n\nWeitere Infos:
  https://www.kirchenregion-aarberg.ch/veranstaltung/89081
SUMMARY:Oasen im Alltag - Seniorenbühne Seeland: "Dänkbar ungünschtig"
PRIORITY:5
X-MICROSOFT-CDO-IMPORTANCE:1
CLASS:PUBLIC
END:VEVENT
END:VCALENDAR
