BEGIN:VCALENDAR
PRODID:-//kirchenweb.ch gmbh//veranstaltungsausgabe v2.0//DE
VERSION:2.0
METHOD:PUBLISH
BEGIN:VEVENT
DTSTART:20260430T173000Z
DTEND:20260430T183000Z
LOCATION:Schürstube\, Kirchgemeindesaal\, Kirchweg 5b\, 3283 Kallnach
TRANSP:OPAQUE
SEQUENCE:0
UID:89082-veranstaltung@kirchenregion-aarberg.ch
DTSTAMP:20260317T091804Z
DESCRIPTION:Die DOK-Serie «Als die Schweiz den Atem anhielt» blickt auf
  sieben Ereignisse zurück\, die Schweizerinnen und Schweizern den Atem
  stocken liessen.\n\nVom Erdrutsch in Gondo über das Attentat in Luxor
  bis zum Swissair-Grounding: Der DOK-Film zeigt\, wie es zu den
  Katastrophen kommen konnte\, welche Folgen diese für die Betroffenen
  hatten und welche Konsequenzen die Verantwortlichen daraus gezogen haben.
  \n\nWelches von den sieben Ereignissen wir uns noch einmal vor Augen
  führen\, bestimmen Sie! Mit Jürg Kägi.\n\nKontakt\nPfarrer Jürg
  Kägi\, Kirchrain 7\, 3282 Bargen\, juerg.kaegi@kirche32.ch\, 077 231 25
  98\nKirchgemeinderätin Monika Ebner-Schwab\, Mühlegasse 2\, 3283
  Kallnach\, monika.ebner@kirchekallnach.ch\, 079 420 51 10\n\n\n\n\n
 \nKontakt: info.k@kirchekallnach.ch\n\nWeitere Infos:
  https://www.kirchenregion-aarberg.ch/veranstaltung/89082
SUMMARY:Oasen im Alltag -  Als die Schweiz den Atem anhielt
PRIORITY:5
X-MICROSOFT-CDO-IMPORTANCE:1
CLASS:PUBLIC
END:VEVENT
END:VCALENDAR
