BEGIN:VCALENDAR
PRODID:-//kirchenweb.ch gmbh//veranstaltungsausgabe v2.0//DE
VERSION:2.0
METHOD:PUBLISH
BEGIN:VEVENT
DTSTART:20260521T120000Z
DTEND:20260521T130000Z
LOCATION:Schürstube\, Kirchgemeindesaal\, Kirchweg 5b\, 3283 Kallnach
TRANSP:OPAQUE
SEQUENCE:0
UID:89083-veranstaltung@kirchenregion-aarberg.ch
DTSTAMP:20251218T161853Z
DESCRIPTION:Gemütliches Zusammensein und käfele.\n\nKontakt\nPfarrer
  Jürg Kägi\, Kirchrain 7\, 3282 Bargen\, juerg.kaegi@kirche32.ch\, 077
  231 25 98\n\n\n\n\n\n\nKontakt: info.k@kirchekallnach.ch\n\nWeitere
  Infos: https://www.kirchenregion-aarberg.ch/veranstaltung/89083
SUMMARY:Oasen im Alltag "Schürstube-Café"
PRIORITY:5
X-MICROSOFT-CDO-IMPORTANCE:1
CLASS:PUBLIC
END:VEVENT
END:VCALENDAR
