BEGIN:VCALENDAR
PRODID:-//kirchenweb.ch gmbh//veranstaltungsausgabe v2.0//DE
VERSION:2.0
METHOD:PUBLISH
BEGIN:VEVENT
DTSTART:20260618T120000Z
DTEND:20260618T130000Z
LOCATION:Schürstube\, Kirchgemeindesaal\, Kirchweg 5b\, 3283 Kallnach
TRANSP:OPAQUE
SEQUENCE:0
UID:89084-veranstaltung@kirchenregion-aarberg.ch
DTSTAMP:20251218T162047Z
DESCRIPTION:Was hören heutige KUW-Kinder im Unterricht? Biblische
  Geschichten neu erzählt. Mit Dominik von Allmen\n\nKontakt\nPfarrer
  Dominik von Allmen\, Kirchweg 5\, 3283 Kallnach\,
  dominik.vonallmen@kirche32.ch\, 077 225 27 02\n\n\n\n\n\nKontakt:
  info.k@kirchekallnach.ch\n\nWeitere Infos:
  https://www.kirchenregion-aarberg.ch/veranstaltung/89084
SUMMARY:Oasen im Alltag - Kinderlehre refresh
PRIORITY:5
X-MICROSOFT-CDO-IMPORTANCE:1
CLASS:PUBLIC
END:VEVENT
END:VCALENDAR
