BEGIN:VCALENDAR
PRODID:-//kirchenweb.ch gmbh//veranstaltungsausgabe v2.0//DE
VERSION:2.0
METHOD:PUBLISH
BEGIN:VEVENT
DTSTART:20260310T160000Z
DTEND:20260310T180000Z
LOCATION:Spycher bei der Kirche\, Kirchweg 7\, 3272 Walperswil
TRANSP:OPAQUE
SEQUENCE:0
UID:89542-veranstaltung@kirchenregion-aarberg.ch
DTSTAMP:20260108T094722Z
DESCRIPTION:Kontakt: Ursula Probst-Nenniger\n\nWeitere Infos:
  https://www.kirchenregion-aarberg.ch/veranstaltung/89542
SUMMARY:Besuchsdienst Walperswil-Bühl
PRIORITY:5
X-MICROSOFT-CDO-IMPORTANCE:1
CLASS:PUBLIC
END:VEVENT
END:VCALENDAR
