BEGIN:VCALENDAR
PRODID:-//kirchenweb.ch gmbh//veranstaltungsausgabe v2.0//DE
VERSION:2.0
METHOD:PUBLISH
BEGIN:VEVENT
DTSTART:20260514T080000Z
DTEND:20260514T090000Z
LOCATION:Festzelt\, Grien Niederried\, 3283 Niederried b. Kallnach
TRANSP:OPAQUE
SEQUENCE:0
UID:91375-veranstaltung@kirchenregion-aarberg.ch
DTSTAMP:20260414T091952Z
DESCRIPTION:Die Heilsarmee Bern lädt uns ein mit ihnen zusammen Auffahrt
  zu feiern. Anschliessend sind alle zu einem Z'Mittag eingeladen. \n
 \nKontakt: Fritz Mori\, Kirchgemeindepräsident\n\nWeitere Infos:
  https://www.kirchenregion-aarberg.ch/veranstaltung/91375
SUMMARY:Auffahrtsgottesdienst mit der Heilsarmee Bern
PRIORITY:5
X-MICROSOFT-CDO-IMPORTANCE:1
CLASS:PUBLIC
END:VEVENT
END:VCALENDAR
